BEGIN:VCALENDAR
VERSION:2.0
PRODID:-//wp-events-plugin.com//7.2.3.1//EN
TZID:America/New_York
X-WR-TIMEZONE:America/New_York
BEGIN:VEVENT
UID:9579@synagogue.org
DTSTART;TZID=America/New_York:20251025T093000
DTEND;TZID=America/New_York:20251025T103000
DTSTAMP:20251012T101701Z
URL:https://www.synagogue.org/events/shabbat-together/
SUMMARY:Shabbat Together
DESCRIPTION:\nStudents ages 5-13 are invited\nSaturday\, October 25\n9:30-1
 0:30am\nEveryone is welcome-membership not required\nSing Shabbat songs an
 d Prayers\nLearn Hebrew from Aleph to Tav\nEarn Prizes\nThere is no charge
  for this program.\nShabbat Together Schedule will be Provided
CATEGORIES:Family Programming,Religious School
END:VEVENT
BEGIN:VTIMEZONE
TZID:America/New_York
X-LIC-LOCATION:America/New_York
BEGIN:DAYLIGHT
DTSTART:20250309T030000
TZOFFSETFROM:-0500
TZOFFSETTO:-0400
TZNAME:EDT
END:DAYLIGHT
END:VTIMEZONE
END:VCALENDAR